BEGIN:VCALENDAR
VERSION:2.0
PRODID:-//مؤسسة الحق لحرية الرأي و التعبير وحقوق الإنسان - ECPv6.11.2//NONSGML v1.0//EN
CALSCALE:GREGORIAN
METHOD:PUBLISH
X-ORIGINAL-URL:https://elhak.org
X-WR-CALDESC:Events for مؤسسة الحق لحرية الرأي و التعبير وحقوق الإنسان
REFRESH-INTERVAL;VALUE=DURATION:PT1H
X-Robots-Tag:noindex
X-PUBLISHED-TTL:PT1H
BEGIN:VTIMEZONE
TZID:Africa/Cairo
BEGIN:DAYLIGHT
TZOFFSETFROM:+0200
TZOFFSETTO:+0300
TZNAME:EEST
DTSTART:20250424T220000
END:DAYLIGHT
BEGIN:STANDARD
TZOFFSETFROM:+0300
TZOFFSETTO:+0200
TZNAME:EET
DTSTART:20251030T210000
END:STANDARD
END:VTIMEZONE
BEGIN:VEVENT
DTSTART;TZID=Africa/Cairo:20250317T080000
DTEND;TZID=Africa/Cairo:20250317T160000
DTSTAMP:20260423T101527
CREATED:20250317T184159Z
LAST-MODIFIED:20250317T184159Z
UID:6534-1742198400-1742227200@elhak.org
SUMMARY:التحقيق رقم ٨٤٧ لسنة ٢٠٢٥ حصر امن دولة
DESCRIPTION:#تجديد_حبس\nجددت نيابة امن الدولة العليا   حبس كل من \n#وليد_محمد_السيد\n#اسلام_محمود_حمدي\n#سحر_فرج_محمد\nلمدة ١٥ يوما جديدة على ذمة التحقيق رقم ٨٤٧ لسنة ٢٠٢٥ حصر امن دولة عليا والتي يواجه فيها كل منهم وآخرين اتهامات الانضمام الى جماعة ارهابية، نشر اخبار وبيانات كاذبة، اساءة استخدام وسائل التواصل الاجتماعي، الترويج لاغراض جماعة ارهابية، الاشتراك في اتفاق جنائي بغرض ارتكاب جريمة ارهابية، ارتكاب جريمة من جرائم تمويل الارهاب.\nومثل المتهمان وليد محمد، اسلام محمود من محبسهم بمركز تأهيل العاشر (٦) ومثلت المتهمة سحر فرج من مركز تأهيل العاشر (٤).\nوفور مثولهما طلبوا الحديث الى وكيل النيابة وهو الامر الذي رفضه وطلب الدفاع الحاضر اخلاء سبيل المواطنين المتهمين باي ضمان تراه النيابة العامة واحتياطيا استبدال الحبس الاحتياطي باحد التدابير المنصوص عليها بالمادة ٢٠١ من قانون الاجراءات الجنائية.\n#محام_الحق
URL:https://elhak.org/case-dignity-revolution/%d8%a7%d9%84%d8%aa%d8%ad%d9%82%d9%8a%d9%82-%d8%b1%d9%82%d9%85-%d9%a8%d9%a4%d9%a7-%d9%84%d8%b3%d9%86%d8%a9-%d9%a2%d9%a0%d9%a2%d9%a5-%d8%ad%d8%b5%d8%b1-%d8%a7%d9%85%d9%86-%d8%af%d9%88%d9%84%d8%a9/
END:VEVENT
END:VCALENDAR